BEGIN:VCALENDAR
VERSION:2.0
PRODID:-//Mental Health Substance Use Services - ECPv6.15.12.2//NONSGML v1.0//EN
CALSCALE:GREGORIAN
METHOD:PUBLISH
X-WR-CALNAME:Mental Health Substance Use Services
X-ORIGINAL-URL:https://centralfloridacares.org
X-WR-CALDESC:Events for Mental Health Substance Use Services
REFRESH-INTERVAL;VALUE=DURATION:PT1H
X-Robots-Tag:noindex
X-PUBLISHED-TTL:PT1H
BEGIN:VTIMEZONE
TZID:UTC
BEGIN:STANDARD
TZOFFSETFROM:+0000
TZOFFSETTO:+0000
TZNAME:UTC
DTSTART:20240101T000000
END:STANDARD
END:VTIMEZONE
BEGIN:VEVENT
DTSTART;TZID=UTC:20250212T130000
DTEND;TZID=UTC:20250212T140000
DTSTAMP:20260422T221216
CREATED:20240424T184934Z
LAST-MODIFIED:20240424T184934Z
UID:10000706-1739365200-1739368800@centralfloridacares.org
SUMMARY:Finance Committee Meeting
DESCRIPTION:
URL:https://centralfloridacares.org/meetings-events/finance-committee-meeting-101/
LOCATION:Central Florida Cares\, 707 Mendham Blvd.\, Orlando\, FL\, 32825\, United States
CATEGORIES:Finance Committee Meetings 24-25,Meetings
END:VEVENT
BEGIN:VEVENT
DTSTART;TZID=UTC:20250212T140000
DTEND;TZID=UTC:20250212T150000
DTSTAMP:20260422T221216
CREATED:20240424T144151Z
LAST-MODIFIED:20240424T155326Z
UID:10000694-1739368800-1739372400@centralfloridacares.org
SUMMARY:Executive Committee Meeting
DESCRIPTION:
URL:https://centralfloridacares.org/meetings-events/executive-committee-meetings-7/
LOCATION:Central Florida Cares\, 707 Mendham Blvd.\, Orlando\, FL\, 32825\, United States
CATEGORIES:Executive Committee Meetings 24-25,Meetings
END:VEVENT
BEGIN:VEVENT
DTSTART;TZID=UTC:20250220T133000
DTEND;TZID=UTC:20250220T143000
DTSTAMP:20260422T221216
CREATED:20240424T191347Z
LAST-MODIFIED:20250218T142648Z
UID:10000717-1740058200-1740061800@centralfloridacares.org
SUMMARY:**CANCELED** Quality Improvement Committee Meeting
DESCRIPTION:
URL:https://centralfloridacares.org/meetings-events/quality-improvement-committee-meeting-8/
LOCATION:Central Florida Cares\, 707 Mendham Blvd.\, Orlando\, FL\, 32825\, United States
CATEGORIES:Meetings,Quality Improvement Committee Meetings 24-25
END:VEVENT
BEGIN:VEVENT
DTSTART;TZID=UTC:20250220T150000
DTEND;TZID=UTC:20250220T170000
DTSTAMP:20260422T221216
CREATED:20240423T195458Z
LAST-MODIFIED:20250220T134622Z
UID:10000682-1740063600-1740070800@centralfloridacares.org
SUMMARY:**CANCELED** Board Meeting
DESCRIPTION:
URL:https://centralfloridacares.org/meetings-events/board-meeting-18/
LOCATION:Central Florida Cares\, 707 Mendham Blvd.\, Orlando\, FL\, 32825\, United States
CATEGORIES:Board Meetings 24-25,Meetings
END:VEVENT
END:VCALENDAR