BEGIN:VCALENDAR
VERSION:2.0
PRODID:-//Mental Health Substance Use Services - ECPv6.15.12.2//NONSGML v1.0//EN
CALSCALE:GREGORIAN
METHOD:PUBLISH
X-ORIGINAL-URL:https://centralfloridacares.org
X-WR-CALDESC:Events for Mental Health Substance Use Services
REFRESH-INTERVAL;VALUE=DURATION:PT1H
X-Robots-Tag:noindex
X-PUBLISHED-TTL:PT1H
BEGIN:VTIMEZONE
TZID:UTC
BEGIN:STANDARD
TZOFFSETFROM:+0000
TZOFFSETTO:+0000
TZNAME:UTC
DTSTART:20240101T000000
END:STANDARD
END:VTIMEZONE
BEGIN:VEVENT
DTSTART;TZID=UTC:20250409T130000
DTEND;TZID=UTC:20250409T140000
DTSTAMP:20260422T190007
CREATED:20240424T185148Z
LAST-MODIFIED:20240424T185148Z
UID:10000708-1744203600-1744207200@centralfloridacares.org
SUMMARY:Finance Committee Meeting
DESCRIPTION:
URL:https://centralfloridacares.org/meetings-events/finance-committee-meeting-103/
LOCATION:Central Florida Cares\, 707 Mendham Blvd.\, Orlando\, FL\, 32825\, United States
CATEGORIES:Finance Committee Meetings 24-25,Meetings
END:VEVENT
BEGIN:VEVENT
DTSTART;TZID=UTC:20250409T140000
DTEND;TZID=UTC:20250409T150000
DTSTAMP:20260422T190007
CREATED:20240424T144304Z
LAST-MODIFIED:20240424T155331Z
UID:10000696-1744207200-1744210800@centralfloridacares.org
SUMMARY:Executive Committee Meeting
DESCRIPTION:
URL:https://centralfloridacares.org/meetings-events/executive-committee-meetings-9/
LOCATION:Central Florida Cares\, 707 Mendham Blvd.\, Orlando\, FL\, 32825\, United States
CATEGORIES:Executive Committee Meetings 24-25,Meetings
END:VEVENT
BEGIN:VEVENT
DTSTART;TZID=UTC:20250409T150000
DTEND;TZID=UTC:20250409T160000
DTSTAMP:20260422T190007
CREATED:20250213T163502Z
LAST-MODIFIED:20250213T163502Z
UID:10000725-1744210800-1744214400@centralfloridacares.org
SUMMARY:Ad-Hoc Committee Meetings
DESCRIPTION:
URL:https://centralfloridacares.org/meetings-events/ad-hoc-committee-meetings/
CATEGORIES:Ad-Hoc Committee Meetings,Meetings
END:VEVENT
BEGIN:VEVENT
DTSTART;TZID=UTC:20250417T133000
DTEND;TZID=UTC:20250417T143000
DTSTAMP:20260422T190007
CREATED:20240424T191443Z
LAST-MODIFIED:20240424T191443Z
UID:10000718-1744896600-1744900200@centralfloridacares.org
SUMMARY:Quality Improvement Committee Meeting
DESCRIPTION:
URL:https://centralfloridacares.org/meetings-events/quality-improvement-committee-meeting-9/
LOCATION:Central Florida Cares\, 707 Mendham Blvd.\, Orlando\, FL\, 32825\, United States
CATEGORIES:Meetings,Quality Improvement Committee Meetings 24-25
END:VEVENT
BEGIN:VEVENT
DTSTART;TZID=UTC:20250417T150000
DTEND;TZID=UTC:20250417T170000
DTSTAMP:20260422T190007
CREATED:20240423T195537Z
LAST-MODIFIED:20240423T195537Z
UID:10000683-1744902000-1744909200@centralfloridacares.org
SUMMARY:Board Meeting
DESCRIPTION:
URL:https://centralfloridacares.org/meetings-events/board-meeting-19/
LOCATION:Central Florida Cares\, 707 Mendham Blvd.\, Orlando\, FL\, 32825\, United States
CATEGORIES:Board Meetings 24-25,Meetings
END:VEVENT
BEGIN:VEVENT
DTSTART;TZID=UTC:20250429T150000
DTEND;TZID=UTC:20250429T153000
DTSTAMP:20260422T190007
CREATED:20250418T140048Z
LAST-MODIFIED:20250418T140048Z
UID:10000762-1745938800-1745940600@centralfloridacares.org
SUMMARY:Ad-Hoc Nominating Comm.
DESCRIPTION:
URL:https://centralfloridacares.org/meetings-events/ad-hoc-nominating-comm-5/
CATEGORIES:Meetings,Nominating Committee Meetings 25-26
END:VEVENT
END:VCALENDAR