BEGIN:VCALENDAR
VERSION:2.0
PRODID:-//Mental Health Substance Use Services - ECPv6.15.12.2//NONSGML v1.0//EN
CALSCALE:GREGORIAN
METHOD:PUBLISH
X-WR-CALNAME:Mental Health Substance Use Services
X-ORIGINAL-URL:https://centralfloridacares.org
X-WR-CALDESC:Events for Mental Health Substance Use Services
REFRESH-INTERVAL;VALUE=DURATION:PT1H
X-Robots-Tag:noindex
X-PUBLISHED-TTL:PT1H
BEGIN:VTIMEZONE
TZID:UTC
BEGIN:STANDARD
TZOFFSETFROM:+0000
TZOFFSETTO:+0000
TZNAME:UTC
DTSTART:20240101T000000
END:STANDARD
END:VTIMEZONE
BEGIN:VEVENT
DTSTART;TZID=UTC:20251203T130000
DTEND;TZID=UTC:20251203T140000
DTSTAMP:20260422T070959
CREATED:20250410T180638Z
LAST-MODIFIED:20251201T201847Z
UID:10000749-1764766800-1764770400@centralfloridacares.org
SUMMARY:**CANCELED** Finance Committee Meeting
DESCRIPTION:
URL:https://centralfloridacares.org/meetings-events/finance-committee-meeting-93/
CATEGORIES:Finance Committee Meetings 25-26,Meetings
END:VEVENT
BEGIN:VEVENT
DTSTART;TZID=UTC:20251203T140000
DTEND;TZID=UTC:20251203T150000
DTSTAMP:20260422T070959
CREATED:20250410T180938Z
LAST-MODIFIED:20251201T201851Z
UID:10000761-1764770400-1764774000@centralfloridacares.org
SUMMARY:**CANCELED** Executive Committee Meeting
DESCRIPTION:
URL:https://centralfloridacares.org/meetings-events/executive-committee-meeting-29/
CATEGORIES:Executive Committee Meetings 25-26,Meetings
END:VEVENT
BEGIN:VEVENT
DTSTART;TZID=UTC:20251211T150000
DTEND;TZID=UTC:20251211T170000
DTSTAMP:20260422T070959
CREATED:20250410T175222Z
LAST-MODIFIED:20250410T175222Z
UID:10000733-1765465200-1765472400@centralfloridacares.org
SUMMARY:Board Meeting
DESCRIPTION:
URL:https://centralfloridacares.org/meetings-events/board-meeting-22/
CATEGORIES:Board Meetings 25-26,Meetings
END:VEVENT
BEGIN:VEVENT
DTSTART;TZID=UTC:20251224T080000
DTEND;TZID=UTC:20251224T170000
DTSTAMP:20260422T070959
CREATED:20251201T202203Z
LAST-MODIFIED:20251201T202203Z
UID:10000772-1766563200-1766595600@centralfloridacares.org
SUMMARY:Office Closed for Christmas
DESCRIPTION:
URL:https://centralfloridacares.org/meetings-events/office-closed-for-christmas/2025-12-24/
CATEGORIES:Holidays
END:VEVENT
BEGIN:VEVENT
DTSTART;TZID=UTC:20251225T080000
DTEND;TZID=UTC:20251225T170000
DTSTAMP:20260422T070959
CREATED:20251201T202203Z
LAST-MODIFIED:20251201T202203Z
UID:10000773-1766649600-1766682000@centralfloridacares.org
SUMMARY:Office Closed for Christmas
DESCRIPTION:
URL:https://centralfloridacares.org/meetings-events/office-closed-for-christmas/2025-12-25/
CATEGORIES:Holidays
END:VEVENT
BEGIN:VEVENT
DTSTART;TZID=UTC:20251226T080000
DTEND;TZID=UTC:20251226T170000
DTSTAMP:20260422T070959
CREATED:20251201T202203Z
LAST-MODIFIED:20251201T202203Z
UID:10000774-1766736000-1766768400@centralfloridacares.org
SUMMARY:Office Closed for Christmas
DESCRIPTION:
URL:https://centralfloridacares.org/meetings-events/office-closed-for-christmas/2025-12-26/
CATEGORIES:Holidays
END:VEVENT
BEGIN:VEVENT
DTSTART;TZID=UTC:20251231T080000
DTEND;TZID=UTC:20251231T170000
DTSTAMP:20260422T070959
CREATED:20251201T202321Z
LAST-MODIFIED:20251201T202321Z
UID:10000775-1767168000-1767200400@centralfloridacares.org
SUMMARY:Office Closed for New Year's
DESCRIPTION:
URL:https://centralfloridacares.org/meetings-events/office-closed-for-new-years/
CATEGORIES:Meetings
END:VEVENT
END:VCALENDAR