BEGIN:VCALENDAR
VERSION:2.0
PRODID:-//Mental Health Substance Use Services - ECPv6.15.12.2//NONSGML v1.0//EN
CALSCALE:GREGORIAN
METHOD:PUBLISH
X-WR-CALNAME:Mental Health Substance Use Services
X-ORIGINAL-URL:https://centralfloridacares.org
X-WR-CALDESC:Events for Mental Health Substance Use Services
REFRESH-INTERVAL;VALUE=DURATION:PT1H
X-Robots-Tag:noindex
X-PUBLISHED-TTL:PT1H
BEGIN:VTIMEZONE
TZID:UTC
BEGIN:STANDARD
TZOFFSETFROM:+0000
TZOFFSETTO:+0000
TZNAME:UTC
DTSTART:20250101T000000
END:STANDARD
END:VTIMEZONE
BEGIN:VEVENT
DTSTART;TZID=UTC:20260101T080000
DTEND;TZID=UTC:20260101T170000
DTSTAMP:20260422T054807
CREATED:20260116T140113Z
LAST-MODIFIED:20260116T140113Z
UID:10000787-1767254400-1767286800@centralfloridacares.org
SUMMARY:Office Closed for New Year’s Day
DESCRIPTION:
URL:https://centralfloridacares.org/meetings-events/office-closed-for-new-years-day/
CATEGORIES:Holidays
END:VEVENT
BEGIN:VEVENT
DTSTART;TZID=UTC:20260102T080000
DTEND;TZID=UTC:20260102T170000
DTSTAMP:20260422T054807
CREATED:20260116T140158Z
LAST-MODIFIED:20260116T140158Z
UID:10000788-1767340800-1767373200@centralfloridacares.org
SUMMARY:Office Closed for Day After New Year’s
DESCRIPTION:
URL:https://centralfloridacares.org/meetings-events/office-closed-for-day-after-new-years/
CATEGORIES:Holidays
END:VEVENT
BEGIN:VEVENT
DTSTART;TZID=UTC:20260114T130000
DTEND;TZID=UTC:20260114T140000
DTSTAMP:20260422T054807
CREATED:20250410T180513Z
LAST-MODIFIED:20250410T180513Z
UID:10000743-1768395600-1768399200@centralfloridacares.org
SUMMARY:Finance Committee Meeting
DESCRIPTION:
URL:https://centralfloridacares.org/meetings-events/finance-committee-meeting-92/2026-01-14/
CATEGORIES:Finance Committee Meetings 25-26,Meetings
END:VEVENT
BEGIN:VEVENT
DTSTART;TZID=UTC:20260114T140000
DTEND;TZID=UTC:20260114T150000
DTSTAMP:20260422T054807
CREATED:20251010T154223Z
LAST-MODIFIED:20251010T154259Z
UID:10000765-1768399200-1768402800@centralfloridacares.org
SUMMARY:Executive Committee Meeting
DESCRIPTION:
URL:https://centralfloridacares.org/meetings-events/executive-committee-meeting-2/
CATEGORIES:Executive Committee Meetings 25-26,Meetings
END:VEVENT
BEGIN:VEVENT
DTSTART;TZID=UTC:20260119T080000
DTEND;TZID=UTC:20260119T170000
DTSTAMP:20260422T054807
CREATED:20260116T155912Z
LAST-MODIFIED:20260116T155912Z
UID:10000789-1768809600-1768842000@centralfloridacares.org
SUMMARY:Office Closed Martin Luther King Jr. Day
DESCRIPTION:
URL:https://centralfloridacares.org/meetings-events/office-closed-martin-luther-king-jr-day/
CATEGORIES:Holidays
END:VEVENT
END:VCALENDAR