BEGIN:VCALENDAR
VERSION:2.0
PRODID:-//Mental Health Substance Use Services - ECPv6.15.12.2//NONSGML v1.0//EN
CALSCALE:GREGORIAN
METHOD:PUBLISH
X-ORIGINAL-URL:https://centralfloridacares.org
X-WR-CALDESC:Events for Mental Health Substance Use Services
REFRESH-INTERVAL;VALUE=DURATION:PT1H
X-Robots-Tag:noindex
X-PUBLISHED-TTL:PT1H
BEGIN:VTIMEZONE
TZID:UTC
BEGIN:STANDARD
TZOFFSETFROM:+0000
TZOFFSETTO:+0000
TZNAME:UTC
DTSTART:20250101T000000
END:STANDARD
END:VTIMEZONE
BEGIN:VEVENT
DTSTART;TZID=UTC:20260303T140000
DTEND;TZID=UTC:20260303T153000
DTSTAMP:20260422T024415
CREATED:20260218T150858Z
LAST-MODIFIED:20260218T150858Z
UID:10000802-1772546400-1772551800@centralfloridacares.org
SUMMARY:Join us for Webinar on Addressing Veteran Substance Use: Promoting Recovery Through Collaboration and Compassion
DESCRIPTION:Supporting Veterans means strengthening recovery pathways. Attend this free webinar and\nlearn how cross-system collaboration improves outcomes in substance use care.\nJoin leaders from the Department of Veterans Affairs\, SAFE Project\, and Oregon Health\nAuthority leaders for a focused discussion on effective\, evidence-informed approaches to\nsupporting Veterans and Service Members affected by substance use.\nKey learning objectives:\nKey trends in Veteran substance use and co-occurring conditions\nProven treatment and recovery models\nPractical strategies for cross-system collaboration\nFeatured Speakers:\nJay A. Gorman\, Ph.D.\, Department of Veterans Affairs\nAdam Swift\, SAFE Project\nSusan Davis\, LPC\, CADC I\, Oregon Health Authority\nThis webinar will be followed by a learning community series exploring each of these topics\nin greater detail. If you are interested\, you can get further information via our monthly\nnewsletter or from our SMVF TA Upcoming Events.
URL:https://centralfloridacares.org/meetings-events/join-us-for-webinar-on-addressing-veteran-substance-use-promoting-recovery-through-collaboration-and-compassion/
CATEGORIES:Community Events
END:VEVENT
BEGIN:VEVENT
DTSTART;TZID=UTC:20260305T100000
DTEND;TZID=UTC:20260305T120000
DTSTAMP:20260422T024415
CREATED:20260218T150326Z
LAST-MODIFIED:20260218T150350Z
UID:10000801-1772704800-1772712000@centralfloridacares.org
SUMMARY:Baker Act Assessment and Verbal De-escalation in Crisis Situations
DESCRIPTION:Attendees will learn the criteria for Baker Act examination and admissions and how to address suicidal ideation. This webinar will include examples for establishing connections with individuals to quickly de-escalate those in crisis. Participants will also learn de-escalation techniques and strategies for diverting Baker Act involuntary hospitalization.
URL:https://centralfloridacares.org/meetings-events/baker-act-assessment-and-verbal-de-escalation-in-crisis-situations/
CATEGORIES:Community Events
END:VEVENT
BEGIN:VEVENT
DTSTART;TZID=UTC:20260310T130000
DTEND;TZID=UTC:20260310T140000
DTSTAMP:20260422T024415
CREATED:20260317T135132Z
LAST-MODIFIED:20260317T135145Z
UID:10000745-1773147600-1773151200@centralfloridacares.org
SUMMARY:Finance Committee Meeting
DESCRIPTION:
URL:https://centralfloridacares.org/meetings-events/finance-committee-meeting-2/
CATEGORIES:Finance Committee Meetings 25-26,Meetings
END:VEVENT
BEGIN:VEVENT
DTSTART;TZID=UTC:20260310T140000
DTEND;TZID=UTC:20260310T150000
DTSTAMP:20260422T024415
CREATED:20260317T135259Z
LAST-MODIFIED:20260317T135259Z
UID:10000757-1773151200-1773154800@centralfloridacares.org
SUMMARY:Executive Committee Meeting
DESCRIPTION:
URL:https://centralfloridacares.org/meetings-events/executive-committee-meeting-8/
CATEGORIES:Executive Committee Meetings 25-26,Meetings
END:VEVENT
BEGIN:VEVENT
DTSTART;TZID=UTC:20260319T110000
DTEND;TZID=UTC:20260319T130000
DTSTAMP:20260422T024415
CREATED:20260218T145417Z
LAST-MODIFIED:20260218T145614Z
UID:10000800-1773918000-1773925200@centralfloridacares.org
SUMMARY:MMA Lunch and Learn
DESCRIPTION:MMA Lunch and Learn Flyer
URL:https://centralfloridacares.org/meetings-events/mma-lunch-and-learn/
CATEGORIES:Community Events
END:VEVENT
BEGIN:VEVENT
DTSTART;TZID=UTC:20260324T090000
DTEND;TZID=UTC:20260324T130000
DTSTAMP:20260422T024415
CREATED:20260304T195124Z
LAST-MODIFIED:20260304T195124Z
UID:10000804-1774342800-1774357200@centralfloridacares.org
SUMMARY:ACT in Action: Applying Acceptance and Commitment Therapy to Support Recovery from Substance Use Disorders
DESCRIPTION:Recovery from substance use disorders is more than just abstinence. Instead\, it must build on a foundation of what it means to live a personally meaningful\, value-driven life while navigating cravings\, stigma\, and many times both emotional and physical pain. Acceptance and Commitment Therapy (ACT) offers a flexible\, evidence-supported framework for supporting long-term recovery by increasing psychological flexibility rather than focusing solely on symptom elimination. \nThis interactive virtual workshop introduces participants to the core processes of ACT and how to apply them in substance use disorder treatment and recovery support services. Participants will explore experiential exercises and practical tools to help clients relate differently to cravings\, shame\, trauma responses\, and setback experiences. The workshop will emphasize person-centered\, trauma-informed\, and individualized approaches that align with recovery-oriented systems of care. \nParticipants will leave with concrete strategies they can immediately integrate into clinical practice and recovery support services. \nParticipants will be required to have their camera on for 90 percent of the workshop as well as participate in all activities in order to earn a Statement of Completion or CEUs.
URL:https://centralfloridacares.org/meetings-events/act-in-action-applying-acceptance-and-commitment-therapy-to-support-recovery-from-substance-use-disorders/
CATEGORIES:Community Events
END:VEVENT
BEGIN:VEVENT
DTSTART;TZID=UTC:20260326T090000
DTEND;TZID=UTC:20260326T130000
DTSTAMP:20260422T024415
CREATED:20260304T195406Z
LAST-MODIFIED:20260304T195420Z
UID:10000805-1774515600-1774530000@centralfloridacares.org
SUMMARY:WORKSHOP: ACT in Action: Applying Acceptance and Commitment Therapy to Support Recovery from Substance Use Disorders
DESCRIPTION:Recovery from substance use disorders is more than just abstinence. Instead\, it must build on a foundation of what it means to live a personally meaningful\, value-driven life while navigating cravings\, stigma\, and many times both emotional and physical pain. Acceptance and Commitment Therapy (ACT) offers a flexible\, evidence-supported framework for supporting long-term recovery by increasing psychological flexibility rather than focusing solely on symptom elimination. \nThis interactive virtual workshop introduces participants to the core processes of ACT and how to apply them in substance use disorder treatment and recovery support services. Participants will explore experiential exercises and practical tools to help clients relate differently to cravings\, shame\, trauma responses\, and setback experiences. The workshop will emphasize person-centered\, trauma-informed\, and individualized approaches that align with recovery-oriented systems of care. \nParticipants will leave with concrete strategies they can immediately integrate into clinical practice and recovery support services. \nParticipants will be required to have their camera on for 90 percent of the workshop as well as participate in all activities in order to earn a Statement of Completion or CEUs.
URL:https://centralfloridacares.org/meetings-events/workshop-act-in-action-applying-acceptance-and-commitment-therapy-to-support-recovery-from-substance-use-disorders/
CATEGORIES:Community Events
END:VEVENT
END:VCALENDAR