BEGIN:VCALENDAR
VERSION:2.0
PRODID:-//Mental Health Substance Use Services - ECPv6.15.12.2//NONSGML v1.0//EN
CALSCALE:GREGORIAN
METHOD:PUBLISH
X-WR-CALNAME:Mental Health Substance Use Services
X-ORIGINAL-URL:https://centralfloridacares.org
X-WR-CALDESC:Events for Mental Health Substance Use Services
REFRESH-INTERVAL;VALUE=DURATION:PT1H
X-Robots-Tag:noindex
X-PUBLISHED-TTL:PT1H
BEGIN:VTIMEZONE
TZID:UTC
BEGIN:STANDARD
TZOFFSETFROM:+0000
TZOFFSETTO:+0000
TZNAME:UTC
DTSTART:20250101T000000
END:STANDARD
END:VTIMEZONE
BEGIN:VEVENT
DTSTART;TZID=UTC:20260513T130000
DTEND;TZID=UTC:20260513T140000
DTSTAMP:20260422T024225
CREATED:20250410T180513Z
LAST-MODIFIED:20250410T180513Z
UID:10000747-1778677200-1778680800@centralfloridacares.org
SUMMARY:Finance Committee Meeting
DESCRIPTION:
URL:https://centralfloridacares.org/meetings-events/finance-committee-meeting-92/2026-05-13/
CATEGORIES:Finance Committee Meetings 25-26,Meetings
END:VEVENT
BEGIN:VEVENT
DTSTART;TZID=UTC:20260513T140000
DTEND;TZID=UTC:20260513T150000
DTSTAMP:20260422T024225
CREATED:20251010T154802Z
LAST-MODIFIED:20251010T154802Z
UID:10000769-1778680800-1778684400@centralfloridacares.org
SUMMARY:Executive Committee Meeting
DESCRIPTION:
URL:https://centralfloridacares.org/meetings-events/executive-committee-meeting-6/
CATEGORIES:Executive Committee Meetings 25-26,Meetings
END:VEVENT
BEGIN:VEVENT
DTSTART;TZID=UTC:20260521T080000
DTEND;TZID=UTC:20260522T170000
DTSTAMP:20260422T024225
CREATED:20260409T151403Z
LAST-MODIFIED:20260409T151403Z
UID:10000808-1779350400-1779469200@centralfloridacares.org
SUMMARY:FREE - Effective Strategies for Communicating with People Who Are Deaf or Hard of Hearing
DESCRIPTION:This 16-hour workshop explains how effective communication reduces trauma to victims during events\, emergencies or disasters\, etc.
URL:https://centralfloridacares.org/meetings-events/free-effective-strategies-for-communicating-with-people-who-are-deaf-or-hard-of-hearing/
CATEGORIES:Community Events
END:VEVENT
BEGIN:VEVENT
DTSTART;TZID=UTC:20260525T080000
DTEND;TZID=UTC:20260525T170000
DTSTAMP:20260422T024225
CREATED:20260116T155958Z
LAST-MODIFIED:20260116T155958Z
UID:10000790-1779696000-1779728400@centralfloridacares.org
SUMMARY:Office Closed Memorial Day
DESCRIPTION:
URL:https://centralfloridacares.org/meetings-events/office-closed-memorial-day/
CATEGORIES:Holidays
END:VEVENT
END:VCALENDAR