BEGIN:VCALENDAR
VERSION:2.0
PRODID:-//Mental Health Substance Use Services - ECPv6.15.12.2//NONSGML v1.0//EN
CALSCALE:GREGORIAN
METHOD:PUBLISH
X-WR-CALNAME:Mental Health Substance Use Services
X-ORIGINAL-URL:https://centralfloridacares.org
X-WR-CALDESC:Events for Mental Health Substance Use Services
REFRESH-INTERVAL;VALUE=DURATION:PT1H
X-Robots-Tag:noindex
X-PUBLISHED-TTL:PT1H
BEGIN:VTIMEZONE
TZID:UTC
BEGIN:STANDARD
TZOFFSETFROM:+0000
TZOFFSETTO:+0000
TZNAME:UTC
DTSTART:20250101T000000
END:STANDARD
END:VTIMEZONE
BEGIN:VEVENT
DTSTART;TZID=UTC:20260907T080000
DTEND;TZID=UTC:20260907T170000
DTSTAMP:20260422T083450
CREATED:20260116T160258Z
LAST-MODIFIED:20260116T160258Z
UID:10000793-1788768000-1788800400@centralfloridacares.org
SUMMARY:Office Closed Labor Day
DESCRIPTION:
URL:https://centralfloridacares.org/meetings-events/office-closed-labor-day/
CATEGORIES:Holidays
END:VEVENT
END:VCALENDAR